BEGIN:VCALENDAR
VERSION:2.0
PRODID:-//Käthe-Kollwitz-Gesamtschule - ECPv6.15.20//NONSGML v1.0//EN
CALSCALE:GREGORIAN
METHOD:PUBLISH
X-WR-CALNAME:Käthe-Kollwitz-Gesamtschule
X-ORIGINAL-URL:https://kollwitz-gesamtschule.de
X-WR-CALDESC:Veranstaltungen für Käthe-Kollwitz-Gesamtschule
REFRESH-INTERVAL;VALUE=DURATION:PT1H
X-Robots-Tag:noindex
X-PUBLISHED-TTL:PT1H
BEGIN:VTIMEZONE
TZID:Europe/Berlin
BEGIN:DAYLIGHT
TZOFFSETFROM:+0100
TZOFFSETTO:+0200
TZNAME:CEST
DTSTART:20250330T010000
END:DAYLIGHT
BEGIN:STANDARD
TZOFFSETFROM:+0200
TZOFFSETTO:+0100
TZNAME:CET
DTSTART:20251026T010000
END:STANDARD
BEGIN:DAYLIGHT
TZOFFSETFROM:+0100
TZOFFSETTO:+0200
TZNAME:CEST
DTSTART:20260329T010000
END:DAYLIGHT
BEGIN:STANDARD
TZOFFSETFROM:+0200
TZOFFSETTO:+0100
TZNAME:CET
DTSTART:20261025T010000
END:STANDARD
BEGIN:DAYLIGHT
TZOFFSETFROM:+0100
TZOFFSETTO:+0200
TZNAME:CEST
DTSTART:20270328T010000
END:DAYLIGHT
BEGIN:STANDARD
TZOFFSETFROM:+0200
TZOFFSETTO:+0100
TZNAME:CET
DTSTART:20271031T010000
END:STANDARD
END:VTIMEZONE
BEGIN:VEVENT
DTSTART;VALUE=DATE:20260629
DTEND;VALUE=DATE:20260703
DTSTAMP:20260425T124800
CREATED:20251010T102611Z
LAST-MODIFIED:20251010T102611Z
UID:15793-1782691200-1783036799@kollwitz-gesamtschule.de
SUMMARY:Sommerwoche
DESCRIPTION:
URL:https://kollwitz-gesamtschule.de/termin/sommerwoche-2/
END:VEVENT
BEGIN:VEVENT
DTSTART;VALUE=DATE:20260703
DTEND;VALUE=DATE:20260704
DTSTAMP:20260425T124800
CREATED:20251010T102224Z
LAST-MODIFIED:20251010T102224Z
UID:15781-1783036800-1783123199@kollwitz-gesamtschule.de
SUMMARY:18. Käthelauf
DESCRIPTION:
URL:https://kollwitz-gesamtschule.de/termin/18-kaethelauf/
END:VEVENT
BEGIN:VEVENT
DTSTART;TZID=Europe/Berlin:20260703T160000
DTEND;TZID=Europe/Berlin:20260703T190000
DTSTAMP:20260425T124800
CREATED:20251010T102728Z
LAST-MODIFIED:20251010T102909Z
UID:15795-1783094400-1783105200@kollwitz-gesamtschule.de
SUMMARY:Zeugnisübergabe Jahrgang 10
DESCRIPTION:
URL:https://kollwitz-gesamtschule.de/termin/zeugnisuebergabe-jahrgang-10-2/
END:VEVENT
BEGIN:VEVENT
DTSTART;VALUE=DATE:20260706
DTEND;VALUE=DATE:20260707
DTSTAMP:20260425T124800
CREATED:20251010T102249Z
LAST-MODIFIED:20251010T102249Z
UID:15783-1783296000-1783382399@kollwitz-gesamtschule.de
SUMMARY:Sommerfest
DESCRIPTION:
URL:https://kollwitz-gesamtschule.de/termin/sommerfest-3/
END:VEVENT
BEGIN:VEVENT
DTSTART;VALUE=DATE:20260707
DTEND;VALUE=DATE:20260708
DTSTAMP:20260425T124800
CREATED:20251010T102314Z
LAST-MODIFIED:20251010T102314Z
UID:15785-1783382400-1783468799@kollwitz-gesamtschule.de
SUMMARY:Bewegungsfest
DESCRIPTION:
URL:https://kollwitz-gesamtschule.de/termin/bewegungsfest-4/
END:VEVENT
BEGIN:VEVENT
DTSTART;TZID=Europe/Berlin:20260708T074000
DTEND;TZID=Europe/Berlin:20260708T102500
DTSTAMP:20260425T124800
CREATED:20251010T102352Z
LAST-MODIFIED:20251010T102352Z
UID:15787-1783496400-1783506300@kollwitz-gesamtschule.de
SUMMARY:Zeugnisausgabe
DESCRIPTION:
URL:https://kollwitz-gesamtschule.de/termin/zeugnisausgabe-8/
END:VEVENT
BEGIN:VEVENT
DTSTART;TZID=Europe/Berlin:20260709T080000
DTEND;TZID=Europe/Berlin:20260821T170000
DTSTAMP:20260425T124800
CREATED:20251010T102436Z
LAST-MODIFIED:20251010T102436Z
UID:15789-1783584000-1787331600@kollwitz-gesamtschule.de
SUMMARY:Sommerferien
DESCRIPTION:
URL:https://kollwitz-gesamtschule.de/termin/sommerferien-2/
END:VEVENT
END:VCALENDAR