BEGIN:VCALENDAR
VERSION:2.0
PRODID:-//Käthe-Kollwitz-Gesamtschule - ECPv6.15.20//NONSGML v1.0//EN
CALSCALE:GREGORIAN
METHOD:PUBLISH
X-ORIGINAL-URL:https://kollwitz-gesamtschule.de
X-WR-CALDESC:Veranstaltungen für Käthe-Kollwitz-Gesamtschule
REFRESH-INTERVAL;VALUE=DURATION:PT1H
X-Robots-Tag:noindex
X-PUBLISHED-TTL:PT1H
BEGIN:VTIMEZONE
TZID:Europe/Berlin
BEGIN:DAYLIGHT
TZOFFSETFROM:+0100
TZOFFSETTO:+0200
TZNAME:CEST
DTSTART:20220327T010000
END:DAYLIGHT
BEGIN:STANDARD
TZOFFSETFROM:+0200
TZOFFSETTO:+0100
TZNAME:CET
DTSTART:20221030T010000
END:STANDARD
BEGIN:DAYLIGHT
TZOFFSETFROM:+0100
TZOFFSETTO:+0200
TZNAME:CEST
DTSTART:20230326T010000
END:DAYLIGHT
BEGIN:STANDARD
TZOFFSETFROM:+0200
TZOFFSETTO:+0100
TZNAME:CET
DTSTART:20231029T010000
END:STANDARD
BEGIN:DAYLIGHT
TZOFFSETFROM:+0100
TZOFFSETTO:+0200
TZNAME:CEST
DTSTART:20240331T010000
END:DAYLIGHT
BEGIN:STANDARD
TZOFFSETFROM:+0200
TZOFFSETTO:+0100
TZNAME:CET
DTSTART:20241027T010000
END:STANDARD
END:VTIMEZONE
BEGIN:VEVENT
DTSTART;TZID=Europe/Berlin:20230705T190000
DTEND;TZID=Europe/Berlin:20230705T210000
DTSTAMP:20260420T111055
CREATED:20221116T161202Z
LAST-MODIFIED:20230623T143330Z
UID:12278-1688583600-1688590800@kollwitz-gesamtschule.de
SUMMARY:Elternversammlung 7
DESCRIPTION:
URL:https://kollwitz-gesamtschule.de/termin/elternversammlung-7/
END:VEVENT
BEGIN:VEVENT
DTSTART;TZID=Europe/Berlin:20230707T170000
DTEND;TZID=Europe/Berlin:20230707T200000
DTSTAMP:20260420T111055
CREATED:20221116T160838Z
LAST-MODIFIED:20221116T160838Z
UID:12270-1688749200-1688760000@kollwitz-gesamtschule.de
SUMMARY:Zeugnisübergabe Klasse 10
DESCRIPTION:
URL:https://kollwitz-gesamtschule.de/termin/zeugnisuebergabe-klasse-10-2/
END:VEVENT
BEGIN:VEVENT
DTSTART;VALUE=DATE:20230710
DTEND;VALUE=DATE:20230711
DTSTAMP:20260420T111055
CREATED:20221116T160913Z
LAST-MODIFIED:20221116T160913Z
UID:12272-1688947200-1689033599@kollwitz-gesamtschule.de
SUMMARY:Sommerfest
DESCRIPTION:
URL:https://kollwitz-gesamtschule.de/termin/sommerfest/
END:VEVENT
BEGIN:VEVENT
DTSTART;VALUE=DATE:20230711
DTEND;VALUE=DATE:20230712
DTSTAMP:20260420T111055
CREATED:20221116T160949Z
LAST-MODIFIED:20221116T160949Z
UID:12274-1689033600-1689119999@kollwitz-gesamtschule.de
SUMMARY:Bewegungsfest
DESCRIPTION:
URL:https://kollwitz-gesamtschule.de/termin/bewegungsfest-2/
END:VEVENT
BEGIN:VEVENT
DTSTART;TZID=Europe/Berlin:20230712T074000
DTEND;TZID=Europe/Berlin:20230712T102500
DTSTAMP:20260420T111055
CREATED:20221116T161036Z
LAST-MODIFIED:20221116T161036Z
UID:12276-1689147600-1689157500@kollwitz-gesamtschule.de
SUMMARY:Zeugnisausgabe
DESCRIPTION:
URL:https://kollwitz-gesamtschule.de/termin/zeugnisausgabe-3/
END:VEVENT
END:VCALENDAR